<?xml version="1.0"?>
<Capabilities xmlns="http://www.opengis.net/wmts/1.0" xmlns:ows="http://www.opengis.net/ows/1.1" xmlns:xlink="http://www.w3.org/1999/xlink" xmlns:xsi="http://www.w3.org/2001/XMLSchema-instance" xmlns:gml="http://www.opengis.net/gml" xsi:schemaLocation="http://www.opengis.net/wmts/1.0 http://schemas.opengis.net/wmts/1.0/wmtsGetCapabilities_response.xsd" version="1.0.0">
  <ows:ServiceIdentification>
    <ows:Title>WebMapServices Imagery Proxy Service</ows:Title>
    <ows:Abstract>This service provides cached and reprojected access to selected imagery datasets, including SPOT Mosaic NSW 2025.
</ows:Abstract>
    <ows:ServiceType>OGC WMTS</ows:ServiceType>
    <ows:ServiceTypeVersion>1.0.0</ows:ServiceTypeVersion>
    <ows:Fees>None</ows:Fees>
    <ows:AccessConstraints>None</ows:AccessConstraints>
  </ows:ServiceIdentification>
  <ows:OperationsMetadata>
    <ows:Operation name="GetCapabilities">
      <ows:DCP>
        <ows:HTTP>
          <ows:Get xlink:href="https://match-wolf.bnr.la/wmts?">
            <ows:Constraint name="GetEncoding">
              <ows:AllowedValues>
                <ows:Value>RESTful</ows:Value>
              </ows:AllowedValues>
            </ows:Constraint>
          </ows:Get>
        </ows:HTTP>
      </ows:DCP>
    </ows:Operation>
    <ows:Operation name="GetTile">
      <ows:DCP>
        <ows:HTTP>
          <ows:Get xlink:href="https://match-wolf.bnr.la/wmts?">
            <ows:Constraint name="GetEncoding">
              <ows:AllowedValues>
                <ows:Value>RESTful</ows:Value>
              </ows:AllowedValues>
            </ows:Constraint>
          </ows:Get>
        </ows:HTTP>
      </ows:DCP>
    </ows:Operation>
    <ows:Operation name="GetFeatureInfo">
      <ows:DCP>
        <ows:HTTP>
          <ows:Get xlink:href="https://match-wolf.bnr.la/wmts?">
            <ows:Constraint name="GetEncoding">
              <ows:AllowedValues>
                <ows:Value>RESTful</ows:Value>
              </ows:AllowedValues>
            </ows:Constraint>
          </ows:Get>
        </ows:HTTP>
      </ows:DCP>
    </ows:Operation>
  </ows:OperationsMetadata>
  <Contents>
    <Layer>
      <ows:Title>OSM Tile Cache</ows:Title>
      <ows:Abstract></ows:Abstract>
      <ows:WGS84BoundingBox>
        <ows:LowerCorner>-180.0 -85.0511287798066</ows:LowerCorner>
        <ows:UpperCorner>180.0 85.0511287798066</ows:UpperCorner>
      </ows:WGS84BoundingBox>
      <ows:Identifier>osm_wm</ows:Identifier>
      <Style isDefault="true">
        <ows:Identifier>default</ows:Identifier>
      </Style>
      <Format>image/png</Format>
      <TileMatrixSetLink>
        <TileMatrixSet>webmercator</TileMatrixSet>
      </TileMatrixSetLink>
      <ResourceURL format="image/png" resourceType="tile"
        template="https://match-wolf.bnr.la/wmts/osm_wm/{TileMatrixSet}/{TileMatrix}/{TileCol}/{TileRow}.png"/>
    </Layer>
    <Layer>
      <ows:Title>OSM Tile Cache (GDA2020)</ows:Title>
      <ows:Abstract></ows:Abstract>
      <ows:WGS84BoundingBox>
        <ows:LowerCorner>-180.0 -85.0511287798066</ows:LowerCorner>
        <ows:UpperCorner>180.0 85.0511287798066</ows:UpperCorner>
      </ows:WGS84BoundingBox>
      <ows:Identifier>osm_gda2020</ows:Identifier>
      <Style isDefault="true">
        <ows:Identifier>default</ows:Identifier>
      </Style>
      <Format>image/png</Format>
      <TileMatrixSetLink>
        <TileMatrixSet>gda2020</TileMatrixSet>
      </TileMatrixSetLink>
      <ResourceURL format="image/png" resourceType="tile"
        template="https://match-wolf.bnr.la/wmts/osm_gda2020/{TileMatrixSet}/{TileMatrix}/{TileCol}/{TileRow}.png"/>
    </Layer>
    <Layer>
      <ows:Title>SPOT 2025_HD (Web Mercator)</ows:Title>
      <ows:Abstract></ows:Abstract>
      <ows:WGS84BoundingBox>
        <ows:LowerCorner>-180.0 -85.0511287798066</ows:LowerCorner>
        <ows:UpperCorner>180.0 85.0511287798066</ows:UpperCorner>
      </ows:WGS84BoundingBox>
      <ows:Identifier>spot2025_wm</ows:Identifier>
      <Style isDefault="true">
        <ows:Identifier>default</ows:Identifier>
      </Style>
      <Format>image/jpeg</Format>
      <TileMatrixSetLink>
        <TileMatrixSet>webmercator</TileMatrixSet>
      </TileMatrixSetLink>
      <ResourceURL format="image/jpeg" resourceType="tile"
        template="https://match-wolf.bnr.la/wmts/spot2025_wm/{TileMatrixSet}/{TileMatrix}/{TileCol}/{TileRow}.jpeg"/>
    </Layer>
    <Layer>
      <ows:Title>SPOT 2025_HD (GDA2020)</ows:Title>
      <ows:Abstract></ows:Abstract>
      <ows:WGS84BoundingBox>
        <ows:LowerCorner>141.0 -37.5</ows:LowerCorner>
        <ows:UpperCorner>153.6 -28.2</ows:UpperCorner>
      </ows:WGS84BoundingBox>
      <ows:Identifier>spot2025_gda2020</ows:Identifier>
      <Style isDefault="true">
        <ows:Identifier>default</ows:Identifier>
      </Style>
      <Format>image/jpeg</Format>
      <TileMatrixSetLink>
        <TileMatrixSet>gda2020</TileMatrixSet>
      </TileMatrixSetLink>
      <ResourceURL format="image/jpeg" resourceType="tile"
        template="https://match-wolf.bnr.la/wmts/spot2025_gda2020/{TileMatrixSet}/{TileMatrix}/{TileCol}/{TileRow}.jpeg"/>
    </Layer>
    <Layer>
      <ows:Title>SPOT 2025_HD (GDA2020 Lambert)</ows:Title>
      <ows:Abstract></ows:Abstract>
      <ows:WGS84BoundingBox>
        <ows:LowerCorner>66.65892625692193 -55.51708440332441</ows:LowerCorner>
        <ows:UpperCorner>134.1426134876255 2.25732423241045</ows:UpperCorner>
      </ows:WGS84BoundingBox>
      <ows:Identifier>spot2025_gda2020lambert</ows:Identifier>
      <Style isDefault="true">
        <ows:Identifier>default</ows:Identifier>
      </Style>
      <Format>image/jpeg</Format>
      <TileMatrixSetLink>
        <TileMatrixSet>gda2020_lambert</TileMatrixSet>
      </TileMatrixSetLink>
      <ResourceURL format="image/jpeg" resourceType="tile"
        template="https://match-wolf.bnr.la/wmts/spot2025_gda2020lambert/{TileMatrixSet}/{TileMatrix}/{TileCol}/{TileRow}.jpeg"/>
    </Layer>
    <TileMatrixSet>
      <ows:Identifier>webmercator</ows:Identifier>
      <ows:SupportedCRS>urn:ogc:def:crs:EPSG:3857</ows:SupportedCRS>
      <TileMatrix>
        <ows:Identifier>00</ows:Identifier>
        <ScaleDenominator>559082264.0287176</ScaleDenominator>
        <TopLeftCorner>-20037508.342789244 20037508.342789244</TopLeftCorner>
        <TileWidth>256</TileWidth>
        <TileHeight>256</TileHeight>
        <MatrixWidth>1</MatrixWidth>
        <MatrixHeight>1</MatrixHeight>
      </TileMatrix>
      <TileMatrix>
        <ows:Identifier>01</ows:Identifier>
        <ScaleDenominator>279541132.0143588</ScaleDenominator>
        <TopLeftCorner>-20037508.342789244 20037508.342789244</TopLeftCorner>
        <TileWidth>256</TileWidth>
        <TileHeight>256</TileHeight>
        <MatrixWidth>2</MatrixWidth>
        <MatrixHeight>2</MatrixHeight>
      </TileMatrix>
      <TileMatrix>
        <ows:Identifier>02</ows:Identifier>
        <ScaleDenominator>139770566.0071794</ScaleDenominator>
        <TopLeftCorner>-20037508.342789244 20037508.342789244</TopLeftCorner>
        <TileWidth>256</TileWidth>
        <TileHeight>256</TileHeight>
        <MatrixWidth>4</MatrixWidth>
        <MatrixHeight>4</MatrixHeight>
      </TileMatrix>
      <TileMatrix>
        <ows:Identifier>03</ows:Identifier>
        <ScaleDenominator>69885283.0035897</ScaleDenominator>
        <TopLeftCorner>-20037508.342789244 20037508.342789244</TopLeftCorner>
        <TileWidth>256</TileWidth>
        <TileHeight>256</TileHeight>
        <MatrixWidth>8</MatrixWidth>
        <MatrixHeight>8</MatrixHeight>
      </TileMatrix>
      <TileMatrix>
        <ows:Identifier>04</ows:Identifier>
        <ScaleDenominator>34942641.50179485</ScaleDenominator>
        <TopLeftCorner>-20037508.342789244 20037508.342789244</TopLeftCorner>
        <TileWidth>256</TileWidth>
        <TileHeight>256</TileHeight>
        <MatrixWidth>16</MatrixWidth>
        <MatrixHeight>16</MatrixHeight>
      </TileMatrix>
      <TileMatrix>
        <ows:Identifier>05</ows:Identifier>
        <ScaleDenominator>17471320.750897426</ScaleDenominator>
        <TopLeftCorner>-20037508.342789244 20037508.342789244</TopLeftCorner>
        <TileWidth>256</TileWidth>
        <TileHeight>256</TileHeight>
        <MatrixWidth>32</MatrixWidth>
        <MatrixHeight>32</MatrixHeight>
      </TileMatrix>
      <TileMatrix>
        <ows:Identifier>06</ows:Identifier>
        <ScaleDenominator>8735660.375448713</ScaleDenominator>
        <TopLeftCorner>-20037508.342789244 20037508.342789244</TopLeftCorner>
        <TileWidth>256</TileWidth>
        <TileHeight>256</TileHeight>
        <MatrixWidth>64</MatrixWidth>
        <MatrixHeight>64</MatrixHeight>
      </TileMatrix>
      <TileMatrix>
        <ows:Identifier>07</ows:Identifier>
        <ScaleDenominator>4367830.187724357</ScaleDenominator>
        <TopLeftCorner>-20037508.342789244 20037508.342789244</TopLeftCorner>
        <TileWidth>256</TileWidth>
        <TileHeight>256</TileHeight>
        <MatrixWidth>128</MatrixWidth>
        <MatrixHeight>128</MatrixHeight>
      </TileMatrix>
      <TileMatrix>
        <ows:Identifier>08</ows:Identifier>
        <ScaleDenominator>2183915.0938621783</ScaleDenominator>
        <TopLeftCorner>-20037508.342789244 20037508.342789244</TopLeftCorner>
        <TileWidth>256</TileWidth>
        <TileHeight>256</TileHeight>
        <MatrixWidth>256</MatrixWidth>
        <MatrixHeight>256</MatrixHeight>
      </TileMatrix>
      <TileMatrix>
        <ows:Identifier>09</ows:Identifier>
        <ScaleDenominator>1091957.5469310891</ScaleDenominator>
        <TopLeftCorner>-20037508.342789244 20037508.342789244</TopLeftCorner>
        <TileWidth>256</TileWidth>
        <TileHeight>256</TileHeight>
        <MatrixWidth>512</MatrixWidth>
        <MatrixHeight>512</MatrixHeight>
      </TileMatrix>
      <TileMatrix>
        <ows:Identifier>10</ows:Identifier>
        <ScaleDenominator>545978.7734655446</ScaleDenominator>
        <TopLeftCorner>-20037508.342789244 20037508.342789244</TopLeftCorner>
        <TileWidth>256</TileWidth>
        <TileHeight>256</TileHeight>
        <MatrixWidth>1024</MatrixWidth>
        <MatrixHeight>1024</MatrixHeight>
      </TileMatrix>
      <TileMatrix>
        <ows:Identifier>11</ows:Identifier>
        <ScaleDenominator>272989.3867327723</ScaleDenominator>
        <TopLeftCorner>-20037508.342789244 20037508.342789244</TopLeftCorner>
        <TileWidth>256</TileWidth>
        <TileHeight>256</TileHeight>
        <MatrixWidth>2048</MatrixWidth>
        <MatrixHeight>2048</MatrixHeight>
      </TileMatrix>
      <TileMatrix>
        <ows:Identifier>12</ows:Identifier>
        <ScaleDenominator>136494.6933663861</ScaleDenominator>
        <TopLeftCorner>-20037508.342789244 20037508.342789244</TopLeftCorner>
        <TileWidth>256</TileWidth>
        <TileHeight>256</TileHeight>
        <MatrixWidth>4096</MatrixWidth>
        <MatrixHeight>4096</MatrixHeight>
      </TileMatrix>
      <TileMatrix>
        <ows:Identifier>13</ows:Identifier>
        <ScaleDenominator>68247.3466831931</ScaleDenominator>
        <TopLeftCorner>-20037508.342789244 20037508.342789244</TopLeftCorner>
        <TileWidth>256</TileWidth>
        <TileHeight>256</TileHeight>
        <MatrixWidth>8192</MatrixWidth>
        <MatrixHeight>8192</MatrixHeight>
      </TileMatrix>
      <TileMatrix>
        <ows:Identifier>14</ows:Identifier>
        <ScaleDenominator>34123.6733415965</ScaleDenominator>
        <TopLeftCorner>-20037508.342789244 20037508.342789244</TopLeftCorner>
        <TileWidth>256</TileWidth>
        <TileHeight>256</TileHeight>
        <MatrixWidth>16384</MatrixWidth>
        <MatrixHeight>16384</MatrixHeight>
      </TileMatrix>
      <TileMatrix>
        <ows:Identifier>15</ows:Identifier>
        <ScaleDenominator>17061.8366707983</ScaleDenominator>
        <TopLeftCorner>-20037508.342789244 20037508.342789244</TopLeftCorner>
        <TileWidth>256</TileWidth>
        <TileHeight>256</TileHeight>
        <MatrixWidth>32768</MatrixWidth>
        <MatrixHeight>32768</MatrixHeight>
      </TileMatrix>
      <TileMatrix>
        <ows:Identifier>16</ows:Identifier>
        <ScaleDenominator>8530.9183353991</ScaleDenominator>
        <TopLeftCorner>-20037508.342789244 20037508.342789244</TopLeftCorner>
        <TileWidth>256</TileWidth>
        <TileHeight>256</TileHeight>
        <MatrixWidth>65536</MatrixWidth>
        <MatrixHeight>65536</MatrixHeight>
      </TileMatrix>
      <TileMatrix>
        <ows:Identifier>17</ows:Identifier>
        <ScaleDenominator>4265.4591676996</ScaleDenominator>
        <TopLeftCorner>-20037508.342789244 20037508.342789244</TopLeftCorner>
        <TileWidth>256</TileWidth>
        <TileHeight>256</TileHeight>
        <MatrixWidth>131072</MatrixWidth>
        <MatrixHeight>131072</MatrixHeight>
      </TileMatrix>
      <TileMatrix>
        <ows:Identifier>18</ows:Identifier>
        <ScaleDenominator>2132.7295838498</ScaleDenominator>
        <TopLeftCorner>-20037508.342789244 20037508.342789244</TopLeftCorner>
        <TileWidth>256</TileWidth>
        <TileHeight>256</TileHeight>
        <MatrixWidth>262144</MatrixWidth>
        <MatrixHeight>262144</MatrixHeight>
      </TileMatrix>
      <TileMatrix>
        <ows:Identifier>19</ows:Identifier>
        <ScaleDenominator>1066.3647919249</ScaleDenominator>
        <TopLeftCorner>-20037508.342789244 20037508.342789244</TopLeftCorner>
        <TileWidth>256</TileWidth>
        <TileHeight>256</TileHeight>
        <MatrixWidth>524288</MatrixWidth>
        <MatrixHeight>524288</MatrixHeight>
      </TileMatrix>
    </TileMatrixSet>
    <TileMatrixSet>
      <ows:Identifier>gda2020</ows:Identifier>
      <ows:SupportedCRS>urn:ogc:def:crs:EPSG:7844</ows:SupportedCRS>
      <TileMatrix>
        <ows:Identifier>00</ows:Identifier>
        <ScaleDenominator>19567879.241005115</ScaleDenominator>
        <TopLeftCorner>-28.2 141.0</TopLeftCorner>
        <TileWidth>256</TileWidth>
        <TileHeight>256</TileHeight>
        <MatrixWidth>1</MatrixWidth>
        <MatrixHeight>1</MatrixHeight>
      </TileMatrix>
      <TileMatrix>
        <ows:Identifier>01</ows:Identifier>
        <ScaleDenominator>9783939.620502558</ScaleDenominator>
        <TopLeftCorner>-28.2 141.0</TopLeftCorner>
        <TileWidth>256</TileWidth>
        <TileHeight>256</TileHeight>
        <MatrixWidth>2</MatrixWidth>
        <MatrixHeight>2</MatrixHeight>
      </TileMatrix>
      <TileMatrix>
        <ows:Identifier>02</ows:Identifier>
        <ScaleDenominator>4891969.810251279</ScaleDenominator>
        <TopLeftCorner>-28.2 141.0</TopLeftCorner>
        <TileWidth>256</TileWidth>
        <TileHeight>256</TileHeight>
        <MatrixWidth>4</MatrixWidth>
        <MatrixHeight>3</MatrixHeight>
      </TileMatrix>
      <TileMatrix>
        <ows:Identifier>03</ows:Identifier>
        <ScaleDenominator>2445984.9051256394</ScaleDenominator>
        <TopLeftCorner>-28.2 141.0</TopLeftCorner>
        <TileWidth>256</TileWidth>
        <TileHeight>256</TileHeight>
        <MatrixWidth>8</MatrixWidth>
        <MatrixHeight>6</MatrixHeight>
      </TileMatrix>
      <TileMatrix>
        <ows:Identifier>04</ows:Identifier>
        <ScaleDenominator>1222992.4525628197</ScaleDenominator>
        <TopLeftCorner>-28.2 141.0</TopLeftCorner>
        <TileWidth>256</TileWidth>
        <TileHeight>256</TileHeight>
        <MatrixWidth>16</MatrixWidth>
        <MatrixHeight>12</MatrixHeight>
      </TileMatrix>
      <TileMatrix>
        <ows:Identifier>05</ows:Identifier>
        <ScaleDenominator>611496.2262814099</ScaleDenominator>
        <TopLeftCorner>-28.2 141.0</TopLeftCorner>
        <TileWidth>256</TileWidth>
        <TileHeight>256</TileHeight>
        <MatrixWidth>32</MatrixWidth>
        <MatrixHeight>24</MatrixHeight>
      </TileMatrix>
      <TileMatrix>
        <ows:Identifier>06</ows:Identifier>
        <ScaleDenominator>305748.1131407049</ScaleDenominator>
        <TopLeftCorner>-28.2 141.0</TopLeftCorner>
        <TileWidth>256</TileWidth>
        <TileHeight>256</TileHeight>
        <MatrixWidth>64</MatrixWidth>
        <MatrixHeight>48</MatrixHeight>
      </TileMatrix>
      <TileMatrix>
        <ows:Identifier>07</ows:Identifier>
        <ScaleDenominator>152874.0565703525</ScaleDenominator>
        <TopLeftCorner>-28.2 141.0</TopLeftCorner>
        <TileWidth>256</TileWidth>
        <TileHeight>256</TileHeight>
        <MatrixWidth>128</MatrixWidth>
        <MatrixHeight>95</MatrixHeight>
      </TileMatrix>
      <TileMatrix>
        <ows:Identifier>08</ows:Identifier>
        <ScaleDenominator>76437.0282851762</ScaleDenominator>
        <TopLeftCorner>-28.2 141.0</TopLeftCorner>
        <TileWidth>256</TileWidth>
        <TileHeight>256</TileHeight>
        <MatrixWidth>256</MatrixWidth>
        <MatrixHeight>189</MatrixHeight>
      </TileMatrix>
      <TileMatrix>
        <ows:Identifier>09</ows:Identifier>
        <ScaleDenominator>38218.5141425881</ScaleDenominator>
        <TopLeftCorner>-28.2 141.0</TopLeftCorner>
        <TileWidth>256</TileWidth>
        <TileHeight>256</TileHeight>
        <MatrixWidth>512</MatrixWidth>
        <MatrixHeight>378</MatrixHeight>
      </TileMatrix>
      <TileMatrix>
        <ows:Identifier>10</ows:Identifier>
        <ScaleDenominator>19109.2570712941</ScaleDenominator>
        <TopLeftCorner>-28.2 141.0</TopLeftCorner>
        <TileWidth>256</TileWidth>
        <TileHeight>256</TileHeight>
        <MatrixWidth>1024</MatrixWidth>
        <MatrixHeight>756</MatrixHeight>
      </TileMatrix>
      <TileMatrix>
        <ows:Identifier>11</ows:Identifier>
        <ScaleDenominator>9554.628535647</ScaleDenominator>
        <TopLeftCorner>-28.2 141.0</TopLeftCorner>
        <TileWidth>256</TileWidth>
        <TileHeight>256</TileHeight>
        <MatrixWidth>2048</MatrixWidth>
        <MatrixHeight>1512</MatrixHeight>
      </TileMatrix>
      <TileMatrix>
        <ows:Identifier>12</ows:Identifier>
        <ScaleDenominator>4777.3142678235</ScaleDenominator>
        <TopLeftCorner>-28.2 141.0</TopLeftCorner>
        <TileWidth>256</TileWidth>
        <TileHeight>256</TileHeight>
        <MatrixWidth>4096</MatrixWidth>
        <MatrixHeight>3024</MatrixHeight>
      </TileMatrix>
      <TileMatrix>
        <ows:Identifier>13</ows:Identifier>
        <ScaleDenominator>2388.6571339118</ScaleDenominator>
        <TopLeftCorner>-28.2 141.0</TopLeftCorner>
        <TileWidth>256</TileWidth>
        <TileHeight>256</TileHeight>
        <MatrixWidth>8192</MatrixWidth>
        <MatrixHeight>6047</MatrixHeight>
      </TileMatrix>
      <TileMatrix>
        <ows:Identifier>14</ows:Identifier>
        <ScaleDenominator>1194.3285669559</ScaleDenominator>
        <TopLeftCorner>-28.2 141.0</TopLeftCorner>
        <TileWidth>256</TileWidth>
        <TileHeight>256</TileHeight>
        <MatrixWidth>16384</MatrixWidth>
        <MatrixHeight>12093</MatrixHeight>
      </TileMatrix>
      <TileMatrix>
        <ows:Identifier>15</ows:Identifier>
        <ScaleDenominator>597.1642834779</ScaleDenominator>
        <TopLeftCorner>-28.2 141.0</TopLeftCorner>
        <TileWidth>256</TileWidth>
        <TileHeight>256</TileHeight>
        <MatrixWidth>32768</MatrixWidth>
        <MatrixHeight>24186</MatrixHeight>
      </TileMatrix>
      <TileMatrix>
        <ows:Identifier>16</ows:Identifier>
        <ScaleDenominator>298.582141739</ScaleDenominator>
        <TopLeftCorner>-28.2 141.0</TopLeftCorner>
        <TileWidth>256</TileWidth>
        <TileHeight>256</TileHeight>
        <MatrixWidth>65536</MatrixWidth>
        <MatrixHeight>48372</MatrixHeight>
      </TileMatrix>
      <TileMatrix>
        <ows:Identifier>17</ows:Identifier>
        <ScaleDenominator>149.2910708695</ScaleDenominator>
        <TopLeftCorner>-28.2 141.0</TopLeftCorner>
        <TileWidth>256</TileWidth>
        <TileHeight>256</TileHeight>
        <MatrixWidth>131072</MatrixWidth>
        <MatrixHeight>96744</MatrixHeight>
      </TileMatrix>
      <TileMatrix>
        <ows:Identifier>18</ows:Identifier>
        <ScaleDenominator>74.6455354347</ScaleDenominator>
        <TopLeftCorner>-28.2 141.0</TopLeftCorner>
        <TileWidth>256</TileWidth>
        <TileHeight>256</TileHeight>
        <MatrixWidth>262144</MatrixWidth>
        <MatrixHeight>193488</MatrixHeight>
      </TileMatrix>
      <TileMatrix>
        <ows:Identifier>19</ows:Identifier>
        <ScaleDenominator>37.3227677174</ScaleDenominator>
        <TopLeftCorner>-28.2 141.0</TopLeftCorner>
        <TileWidth>256</TileWidth>
        <TileHeight>256</TileHeight>
        <MatrixWidth>524288</MatrixWidth>
        <MatrixHeight>386975</MatrixHeight>
      </TileMatrix>
    </TileMatrixSet>
    <TileMatrixSet>
      <ows:Identifier>gda2020_lambert</ows:Identifier>
      <ows:SupportedCRS>urn:ogc:def:crs:EPSG:8058</ows:SupportedCRS>
      <TileMatrix>
        <ows:Identifier>00</ows:Identifier>
        <ScaleDenominator>73939732.14285713</ScaleDenominator>
        <TopLeftCorner>2500000.0 6900000.0</TopLeftCorner>
        <TileWidth>256</TileWidth>
        <TileHeight>256</TileHeight>
        <MatrixWidth>1</MatrixWidth>
        <MatrixHeight>1</MatrixHeight>
      </TileMatrix>
      <TileMatrix>
        <ows:Identifier>01</ows:Identifier>
        <ScaleDenominator>36969866.07142857</ScaleDenominator>
        <TopLeftCorner>2500000.0 6900000.0</TopLeftCorner>
        <TileWidth>256</TileWidth>
        <TileHeight>256</TileHeight>
        <MatrixWidth>2</MatrixWidth>
        <MatrixHeight>2</MatrixHeight>
      </TileMatrix>
      <TileMatrix>
        <ows:Identifier>02</ows:Identifier>
        <ScaleDenominator>18484933.035714284</ScaleDenominator>
        <TopLeftCorner>2500000.0 6900000.0</TopLeftCorner>
        <TileWidth>256</TileWidth>
        <TileHeight>256</TileHeight>
        <MatrixWidth>4</MatrixWidth>
        <MatrixHeight>4</MatrixHeight>
      </TileMatrix>
      <TileMatrix>
        <ows:Identifier>03</ows:Identifier>
        <ScaleDenominator>9242466.517857142</ScaleDenominator>
        <TopLeftCorner>2500000.0 6900000.0</TopLeftCorner>
        <TileWidth>256</TileWidth>
        <TileHeight>256</TileHeight>
        <MatrixWidth>8</MatrixWidth>
        <MatrixHeight>8</MatrixHeight>
      </TileMatrix>
      <TileMatrix>
        <ows:Identifier>04</ows:Identifier>
        <ScaleDenominator>4621233.258928571</ScaleDenominator>
        <TopLeftCorner>2500000.0 6900000.0</TopLeftCorner>
        <TileWidth>256</TileWidth>
        <TileHeight>256</TileHeight>
        <MatrixWidth>16</MatrixWidth>
        <MatrixHeight>16</MatrixHeight>
      </TileMatrix>
      <TileMatrix>
        <ows:Identifier>05</ows:Identifier>
        <ScaleDenominator>2310616.6294642854</ScaleDenominator>
        <TopLeftCorner>2500000.0 6900000.0</TopLeftCorner>
        <TileWidth>256</TileWidth>
        <TileHeight>256</TileHeight>
        <MatrixWidth>32</MatrixWidth>
        <MatrixHeight>31</MatrixHeight>
      </TileMatrix>
      <TileMatrix>
        <ows:Identifier>06</ows:Identifier>
        <ScaleDenominator>1155308.3147321427</ScaleDenominator>
        <TopLeftCorner>2500000.0 6900000.0</TopLeftCorner>
        <TileWidth>256</TileWidth>
        <TileHeight>256</TileHeight>
        <MatrixWidth>64</MatrixWidth>
        <MatrixHeight>62</MatrixHeight>
      </TileMatrix>
      <TileMatrix>
        <ows:Identifier>07</ows:Identifier>
        <ScaleDenominator>577654.1573660714</ScaleDenominator>
        <TopLeftCorner>2500000.0 6900000.0</TopLeftCorner>
        <TileWidth>256</TileWidth>
        <TileHeight>256</TileHeight>
        <MatrixWidth>128</MatrixWidth>
        <MatrixHeight>124</MatrixHeight>
      </TileMatrix>
      <TileMatrix>
        <ows:Identifier>08</ows:Identifier>
        <ScaleDenominator>288827.0786830357</ScaleDenominator>
        <TopLeftCorner>2500000.0 6900000.0</TopLeftCorner>
